{"text_format":"3","workbook":"xlsx","n_sheets":1,"sheets":["Project Cost Tracker"],"not_rendered":{"defined_names":2},"read":"whole","date_system":"1900"}

{"sheet":"Project Cost Tracker","index":0,"n_rows":89,"n_cols":15,"rows_kept":89,"merged":[[1,1,3,6],[6,4,6,7],[6,9,6,12],[7,4,7,7],[7,9,7,12]]}
[]
[null,"Hours & Expense Tracking"]
[{"$nulls":13},"START DATE: ","2013-09-20"]
[]
["    ","COMPANY NAME"]
["       Building Expansion Project","Building Expansion Project"]
[{"$nulls":4},{"$f":"UPPER(TEXT(E9,\"mmm d\") & \" - \" & TEXT(H9,\"mmm d\"))","v":"SEP 20 - OCT 11"},{"$nulls":4},{"$f":"UPPER(TEXT(J9,\"mmm d\") & \" - \" & TEXT(M9,\"mmm d\"))","v":"OCT 18 - NOV 8"}]
[]
[{"$nulls":3},"RATE",{"$f":"ProjectStartDate","v":"2013-09-20"},{"$f":"E9+7","v":"2013-09-27"},{"$f":"F9+7","v":"2013-10-04"},"2013-10-11","TOTAL",{"$f":"H9+7","v":"2013-10-18"},"2013-10-25","2013-11-01","2013-11-08","TOTAL","GRAND TOTAL"]
[null,null,"RESOURCE 1"]
[null,null,"Initiation / Planning",{"v":50,"d":"$50.00"},{"v":45,"d":"45.0"},{"v":32,"d":"32.0"},{"v":20,"d":"20.0"},{"v":45,"d":"45.0"},{"$f":"SUM('Project Cost Tracker'!$E11:$H11)","v":{"v":142,"d":"142.0"}},{"v":25,"d":"25.0"},{"v":35,"d":"35.0"},{"v":40,"d":"40.0"},{"v":70,"d":"70.0"},{"$f":"SUM('Project Cost Tracker'!$J11:$M11)","v":{"v":170,"d":"170.0"}},{"$f":"SUM('Project Cost Tracker'!$I11,'Project Cost Tracker'!$N11)","v":{"v":312,"d":"312.0"}}]
[null,null,"Install / Development / Testing",{"v":45,"d":"$45.00"},{"v":20,"d":"20.0"},{"v":35,"d":"35.0"},{"v":50,"d":"50.0"},{"v":43,"d":"43.0"},{"$f":"SUM('Project Cost Tracker'!$E12:$H12)","v":{"v":148,"d":"148.0"}},{"v":20,"d":"20.0"},{"v":45,"d":"45.0"},{"v":50,"d":"50.0"},{"v":65,"d":"65.0"},{"$f":"SUM('Project Cost Tracker'!$J12:$M12)","v":{"v":180,"d":"180.0"}},{"$f":"SUM('Project Cost Tracker'!$I12,'Project Cost Tracker'!$N12)","v":{"v":328,"d":"328.0"}}]
[null,null,"Deployment",{"v":50,"d":"$50.00"},{"v":10,"d":"10.0"},{"v":36,"d":"36.0"},{"v":27,"d":"27.0"},{"v":38,"d":"38.0"},{"$f":"SUM('Project Cost Tracker'!$E13:$H13)","v":{"v":111,"d":"111.0"}},{"v":0,"d":"0.0"},{"v":18,"d":"18.0"},{"v":20,"d":"20.0"},{"v":30,"d":"30.0"},{"$f":"SUM('Project Cost Tracker'!$J13:$M13)","v":{"v":68,"d":"68.0"}},{"$f":"SUM('Project Cost Tracker'!$I13,'Project Cost Tracker'!$N13)","v":{"v":179,"d":"179.0"}}]
[null,null,"Operational / Maintenance",{"v":50,"d":"$50.00"},{"v":18,"d":"18.0"},{"v":50,"d":"50.0"},{"v":30,"d":"30.0"},{"v":25,"d":"25.0"},{"$f":"SUM('Project Cost Tracker'!$E14:$H14)","v":{"v":123,"d":"123.0"}},{"v":30,"d":"30.0"},{"v":25,"d":"25.0"},{"v":18,"d":"18.0"},{"v":15,"d":"15.0"},{"$f":"SUM('Project Cost Tracker'!$J14:$M14)","v":{"v":88,"d":"88.0"}},{"$f":"SUM('Project Cost Tracker'!$I14,'Project Cost Tracker'!$N14)","v":{"v":211,"d":"211.0"}}]
[null,null,"Total Hours",null,{"$f":"SUM(E11:E14)","v":{"v":93,"d":"93.0"}},{"$f":"SUM(F11:F14)","v":{"v":153,"d":"153.0"}},{"v":127,"d":"127.0"},{"v":151,"d":"151.0"},{"$f":"SUM('Project Cost Tracker'!$E15:$H15)","v":{"v":524,"d":"524.0"}},{"$f":"SUM(J11:J14)","v":{"v":75,"d":"75.0"}},{"$f":"SUM(K11:K14)","v":{"v":123,"d":"123.0"}},{"v":128,"d":"128.0"},{"v":180,"d":"180.0"},{"$f":"SUM('Project Cost Tracker'!$J15:$M15)","v":{"v":506,"d":"506.0"}},{"$f":"SUM('Project Cost Tracker'!$I15,'Project Cost Tracker'!$N15)","v":{"v":1030,"d":"1,030.0"}}]
[null,null,"T & L Expenses ",{"$nulls":5},{"$f":"SUM('Project Cost Tracker'!$E16:$H16)","v":{"v":0,"d":"$0.00"}},{"$nulls":4},{"$f":"SUM('Project Cost Tracker'!$J16:$M16)","v":{"v":0,"d":"$0.00"}},{"$f":"SUM('Project Cost Tracker'!$I16,'Project Cost Tracker'!$N16)","v":{"v":0,"d":"$0.00"}}]
[null,null,"T & L Expenses - Capitalized",{"$nulls":5},{"$f":"SUM('Project Cost Tracker'!$E17:$H17)","v":{"v":0,"d":"$0.00"}},{"$nulls":4},{"$f":"SUM('Project Cost Tracker'!$J17:$M17)","v":{"v":0,"d":"$0.00"}},{"$f":"SUM('Project Cost Tracker'!$I17,'Project Cost Tracker'!$N17)","v":{"v":0,"d":"$0.00"}}]
[null,null,"RESOURCE 2"]
[null,null,"Initiation / Planning",{"v":50,"d":"$50.00"},{"v":45,"d":"45.0"},{"v":32,"d":"32.0"},{"v":20,"d":"20.0"},{"v":45,"d":"45.0"},{"$f":"SUM('Project Cost Tracker'!$E19:$H19)","v":{"v":142,"d":"142.0"}},{"v":25,"d":"25.0"},{"v":35,"d":"35.0"},{"v":40,"d":"40.0"},{"v":70,"d":"70.0"},{"$f":"SUM('Project Cost Tracker'!$J19:$M19)","v":{"v":170,"d":"170.0"}},{"$f":"SUM('Project Cost Tracker'!$I19,'Project Cost Tracker'!$N19)","v":{"v":312,"d":"312.0"}}]
[null,null,"Install / Development / Testing",{"v":45,"d":"$45.00"},{"v":20,"d":"20.0"},{"v":35,"d":"35.0"},{"v":50,"d":"50.0"},{"v":43,"d":"43.0"},{"$f":"SUM('Project Cost Tracker'!$E20:$H20)","v":{"v":148,"d":"148.0"}},{"v":20,"d":"20.0"},{"v":45,"d":"45.0"},{"v":50,"d":"50.0"},{"v":65,"d":"65.0"},{"$f":"SUM('Project Cost Tracker'!$J20:$M20)","v":{"v":180,"d":"180.0"}},{"$f":"SUM('Project Cost Tracker'!$I20,'Project Cost Tracker'!$N20)","v":{"v":328,"d":"328.0"}}]
[null,null,"Deployment",{"v":50,"d":"$50.00"},{"v":10,"d":"10.0"},{"v":36,"d":"36.0"},{"v":27,"d":"27.0"},{"v":38,"d":"38.0"},{"$f":"SUM('Project Cost Tracker'!$E21:$H21)","v":{"v":111,"d":"111.0"}},{"v":0,"d":"0.0"},{"v":18,"d":"18.0"},{"v":20,"d":"20.0"},{"v":30,"d":"30.0"},{"$f":"SUM('Project Cost Tracker'!$J21:$M21)","v":{"v":68,"d":"68.0"}},{"$f":"SUM('Project Cost Tracker'!$I21,'Project Cost Tracker'!$N21)","v":{"v":179,"d":"179.0"}}]
[null,null,"Operational / Maintenance",{"v":50,"d":"$50.00"},{"v":18,"d":"18.0"},{"v":50,"d":"50.0"},{"v":30,"d":"30.0"},{"v":25,"d":"25.0"},{"$f":"SUM('Project Cost Tracker'!$E22:$H22)","v":{"v":123,"d":"123.0"}},{"v":30,"d":"30.0"},{"v":25,"d":"25.0"},{"v":18,"d":"18.0"},{"v":15,"d":"15.0"},{"$f":"SUM('Project Cost Tracker'!$J22:$M22)","v":{"v":88,"d":"88.0"}},{"$f":"SUM('Project Cost Tracker'!$I22,'Project Cost Tracker'!$N22)","v":{"v":211,"d":"211.0"}}]
[null,null,"Total Hours",null,{"$f":"SUM(E19:E22)","v":{"v":93,"d":"93.0"}},{"$f":"SUM(F19:F22)","v":{"v":153,"d":"153.0"}},{"v":127,"d":"127.0"},{"$f":"SUM(H19:H22)","v":{"v":151,"d":"151.0"}},{"$f":"SUM(I19:I22)","v":{"v":524,"d":"524.0"}},{"v":75,"d":"75.0"},{"v":123,"d":"123.0"},{"v":128,"d":"128.0"},{"v":180,"d":"180.0"},{"$f":"SUM(N19:N22)","v":{"v":506,"d":"506.0"}},{"$f":"SUM('Project Cost Tracker'!$I23,'Project Cost Tracker'!$N23)","v":{"v":1030,"d":"1,030.0"}}]
[null,null,"T & L Expenses ",{"$nulls":5},{"$f":"SUM('Project Cost Tracker'!$E24:$H24)","v":{"v":0,"d":"$0.00"}},{"$nulls":4},{"$f":"SUM('Project Cost Tracker'!$J24:$M24)","v":{"v":0,"d":"$0.00"}},{"$f":"SUM('Project Cost Tracker'!$I24,'Project Cost Tracker'!$N24)","v":{"v":0,"d":"$0.00"}}]
[null,null,"T & L Expenses - Capitalized",{"$nulls":5},{"$f":"SUM('Project Cost Tracker'!$E25:$H25)","v":{"v":0,"d":"$0.00"}},{"$nulls":4},{"$f":"SUM('Project Cost Tracker'!$J25:$M25)","v":{"v":0,"d":"$0.00"}},{"$f":"SUM('Project Cost Tracker'!$I25,'Project Cost Tracker'!$N25)","v":{"v":0,"d":"$0.00"}}]
[null,null,"RESOURCE 3"]
[null,null,"Initiation / Planning",{"v":50,"d":"$50.00"},{"v":45,"d":"45.0"},{"v":32,"d":"32.0"},{"v":20,"d":"20.0"},{"v":45,"d":"45.0"},{"$f":"SUM('Project Cost Tracker'!$E27:$H27)","v":{"v":142,"d":"142.0"}},{"v":25,"d":"25.0"},{"v":35,"d":"35.0"},{"v":40,"d":"40.0"},{"v":70,"d":"70.0"},{"$f":"SUM('Project Cost Tracker'!$J27:$M27)","v":{"v":170,"d":"170.0"}},{"$f":"SUM('Project Cost Tracker'!$I27,'Project Cost Tracker'!$N27)","v":{"v":312,"d":"312.0"}}]
[null,null,"Install / Development / Testing",{"v":45,"d":"$45.00"},{"v":20,"d":"20.0"},{"v":35,"d":"35.0"},{"v":50,"d":"50.0"},{"v":43,"d":"43.0"},{"$f":"SUM('Project Cost Tracker'!$E28:$H28)","v":{"v":148,"d":"148.0"}},{"v":20,"d":"20.0"},{"v":45,"d":"45.0"},{"v":50,"d":"50.0"},{"v":65,"d":"65.0"},{"$f":"SUM('Project Cost Tracker'!$J28:$M28)","v":{"v":180,"d":"180.0"}},{"$f":"SUM('Project Cost Tracker'!$I28,'Project Cost Tracker'!$N28)","v":{"v":328,"d":"328.0"}}]
[null,null,"Deployment",{"v":50,"d":"$50.00"},{"v":10,"d":"10.0"},{"v":36,"d":"36.0"},{"v":27,"d":"27.0"},{"v":38,"d":"38.0"},{"$f":"SUM('Project Cost Tracker'!$E29:$H29)","v":{"v":111,"d":"111.0"}},{"v":0,"d":"0.0"},{"v":18,"d":"18.0"},{"v":20,"d":"20.0"},{"v":30,"d":"30.0"},{"$f":"SUM('Project Cost Tracker'!$J29:$M29)","v":{"v":68,"d":"68.0"}},{"$f":"SUM('Project Cost Tracker'!$I29,'Project Cost Tracker'!$N29)","v":{"v":179,"d":"179.0"}}]
[null,null,"Operational / Maintenance",{"v":50,"d":"$50.00"},{"v":18,"d":"18.0"},{"v":50,"d":"50.0"},{"v":30,"d":"30.0"},{"v":25,"d":"25.0"},{"$f":"SUM('Project Cost Tracker'!$E30:$H30)","v":{"v":123,"d":"123.0"}},{"v":30,"d":"30.0"},{"v":25,"d":"25.0"},{"v":18,"d":"18.0"},{"v":15,"d":"15.0"},{"$f":"SUM('Project Cost Tracker'!$J30:$M30)","v":{"v":88,"d":"88.0"}},{"$f":"SUM('Project Cost Tracker'!$I30,'Project Cost Tracker'!$N30)","v":{"v":211,"d":"211.0"}}]
[null,null,"Total Hours",null,{"$f":"SUM(E27:E30)","v":{"v":93,"d":"93.0"}},{"$f":"SUM(F27:F30)","v":{"v":153,"d":"153.0"}},{"$f":"SUM(G27:G30)","v":{"v":127,"d":"127.0"}},{"$f":"SUM(H27:H30)","v":{"v":151,"d":"151.0"}},{"$f":"SUM('Project Cost Tracker'!$E31:$H31)","v":{"v":524,"d":"524.0"}},{"$f":"SUM(J27:J30)","v":{"v":75,"d":"75.0"}},{"$f":"SUM(K27:K30)","v":{"v":123,"d":"123.0"}},{"$f":"SUM(L27:L30)","v":{"v":128,"d":"128.0"}},{"$f":"SUM(M27:M30)","v":{"v":180,"d":"180.0"}},{"$f":"SUM(N27:N30)","v":{"v":506,"d":"506.0"}},{"$f":"SUM('Project Cost Tracker'!$I31,'Project Cost Tracker'!$N31)","v":{"v":1030,"d":"1,030.0"}}]
[null,null,"T & L Expenses ",{"$nulls":5},{"$f":"SUM('Project Cost Tracker'!$E32:$H32)","v":{"v":0,"d":"$0.00"}},{"$nulls":4},{"$f":"SUM('Project Cost Tracker'!$J32:$M32)","v":{"v":0,"d":"$0.00"}},{"$f":"SUM('Project Cost Tracker'!$I32,'Project Cost Tracker'!$N32)","v":{"v":0,"d":"$0.00"}}]
[null,null,"T & L Expenses - Capitalized",{"$nulls":5},{"$f":"SUM('Project Cost Tracker'!$E33:$H33)","v":{"v":0,"d":"$0.00"}},{"$nulls":4},{"$f":"SUM('Project Cost Tracker'!$J33:$M33)","v":{"v":0,"d":"$0.00"}},{"$f":"SUM('Project Cost Tracker'!$I33,'Project Cost Tracker'!$N33)","v":{"v":0,"d":"$0.00"}}]
[null,null,"RESOURCE 4"]
[null,null,"Initiation / Planning",{"v":50,"d":"$50.00"},{"v":45,"d":"45.0"},{"v":32,"d":"32.0"},{"v":20,"d":"20.0"},{"v":45,"d":"45.0"},{"$f":"SUM('Project Cost Tracker'!$E35:$H35)","v":{"v":142,"d":"142.0"}},{"v":25,"d":"25.0"},{"v":35,"d":"35.0"},{"v":40,"d":"40.0"},{"v":70,"d":"70.0"},{"$f":"SUM('Project Cost Tracker'!$J35:$M35)","v":{"v":170,"d":"170.0"}},{"$f":"SUM('Project Cost Tracker'!$I35,'Project Cost Tracker'!$N35)","v":{"v":312,"d":"312.0"}}]
[null,null,"Install / Development / Testing",{"v":45,"d":"$45.00"},{"v":20,"d":"20.0"},{"v":35,"d":"35.0"},{"v":50,"d":"50.0"},{"v":43,"d":"43.0"},{"$f":"SUM('Project Cost Tracker'!$E36:$H36)","v":{"v":148,"d":"148.0"}},{"v":20,"d":"20.0"},{"v":45,"d":"45.0"},{"v":50,"d":"50.0"},{"v":65,"d":"65.0"},{"$f":"SUM('Project Cost Tracker'!$J36:$M36)","v":{"v":180,"d":"180.0"}},{"$f":"SUM('Project Cost Tracker'!$I36,'Project Cost Tracker'!$N36)","v":{"v":328,"d":"328.0"}}]
[null,null,"Deployment",{"v":50,"d":"$50.00"},{"v":10,"d":"10.0"},{"v":36,"d":"36.0"},{"v":27,"d":"27.0"},{"v":38,"d":"38.0"},{"$f":"SUM('Project Cost Tracker'!$E37:$H37)","v":{"v":111,"d":"111.0"}},{"v":0,"d":"0.0"},{"v":18,"d":"18.0"},{"v":20,"d":"20.0"},{"v":30,"d":"30.0"},{"$f":"SUM('Project Cost Tracker'!$J37:$M37)","v":{"v":68,"d":"68.0"}},{"$f":"SUM('Project Cost Tracker'!$I37,'Project Cost Tracker'!$N37)","v":{"v":179,"d":"179.0"}}]
[null,null,"Operational / Maintenance",{"v":50,"d":"$50.00"},{"v":18,"d":"18.0"},{"v":50,"d":"50.0"},{"v":30,"d":"30.0"},{"v":25,"d":"25.0"},{"$f":"SUM('Project Cost Tracker'!$E38:$H38)","v":{"v":123,"d":"123.0"}},{"v":30,"d":"30.0"},{"v":25,"d":"25.0"},{"v":18,"d":"18.0"},{"v":15,"d":"15.0"},{"$f":"SUM('Project Cost Tracker'!$J38:$M38)","v":{"v":88,"d":"88.0"}},{"$f":"SUM('Project Cost Tracker'!$I38,'Project Cost Tracker'!$N38)","v":{"v":211,"d":"211.0"}}]
[null,null,"Total Hours",null,{"$f":"SUM(E35:E38)","v":{"v":93,"d":"93.0"}},{"$f":"SUM(F35:F38)","v":{"v":153,"d":"153.0"}},{"$f":"SUM(G35:G38)","v":{"v":127,"d":"127.0"}},{"$f":"SUM(H35:H38)","v":{"v":151,"d":"151.0"}},{"$f":"SUM('Project Cost Tracker'!$E39:$H39)","v":{"v":524,"d":"524.0"}},{"$f":"SUM(J35:J38)","v":{"v":75,"d":"75.0"}},{"$f":"SUM(K35:K38)","v":{"v":123,"d":"123.0"}},{"$f":"SUM(L35:L38)","v":{"v":128,"d":"128.0"}},{"$f":"SUM(M35:M38)","v":{"v":180,"d":"180.0"}},{"$f":"SUM(N35:N38)","v":{"v":506,"d":"506.0"}},{"$f":"SUM('Project Cost Tracker'!$I39,'Project Cost Tracker'!$N39)","v":{"v":1030,"d":"1,030.0"}}]
[null,null,"T & L Expenses ",{"$nulls":5},{"$f":"SUM('Project Cost Tracker'!$E40:$H40)","v":{"v":0,"d":"$0.00"}},{"$nulls":4},{"$f":"SUM('Project Cost Tracker'!$J40:$M40)","v":{"v":0,"d":"$0.00"}},{"$f":"SUM('Project Cost Tracker'!$I40,'Project Cost Tracker'!$N40)","v":{"v":0,"d":"$0.00"}}]
[null,null,"T & L Expenses - Capitalized",{"$nulls":5},{"$f":"SUM('Project Cost Tracker'!$E41:$H41)","v":{"v":0,"d":"$0.00"}},{"$nulls":4},{"$f":"SUM('Project Cost Tracker'!$J41:$M41)","v":{"v":0,"d":"$0.00"}},{"$f":"SUM('Project Cost Tracker'!$I41,'Project Cost Tracker'!$N41)","v":{"v":0,"d":"$0.00"}}]
[null,null,"VENDOR 1"]
[null,null,"Initiation / Planning",{"v":50,"d":"$50.00"},{"v":45,"d":"45.0"},{"v":32,"d":"32.0"},{"v":20,"d":"20.0"},{"v":45,"d":"45.0"},{"$f":"SUM('Project Cost Tracker'!$E43:$H43)","v":{"v":142,"d":"142.0"}},{"v":25,"d":"25.0"},{"v":35,"d":"35.0"},{"v":40,"d":"40.0"},{"v":70,"d":"70.0"},{"$f":"SUM('Project Cost Tracker'!$J43:$M43)","v":{"v":170,"d":"170.0"}},{"$f":"SUM('Project Cost Tracker'!$I43,'Project Cost Tracker'!$N43)","v":{"v":312,"d":"312.0"}}]
[null,null,"Install / Development / Testing",{"v":45,"d":"$45.00"},{"v":20,"d":"20.0"},{"v":35,"d":"35.0"},{"v":50,"d":"50.0"},{"v":43,"d":"43.0"},{"$f":"SUM('Project Cost Tracker'!$E44:$H44)","v":{"v":148,"d":"148.0"}},{"v":20,"d":"20.0"},{"v":45,"d":"45.0"},{"v":50,"d":"50.0"},{"v":65,"d":"65.0"},{"$f":"SUM('Project Cost Tracker'!$J44:$M44)","v":{"v":180,"d":"180.0"}},{"$f":"SUM('Project Cost Tracker'!$I44,'Project Cost Tracker'!$N44)","v":{"v":328,"d":"328.0"}}]
[null,null,"Deployment",{"v":50,"d":"$50.00"},{"v":10,"d":"10.0"},{"v":36,"d":"36.0"},{"v":27,"d":"27.0"},{"v":38,"d":"38.0"},{"$f":"SUM('Project Cost Tracker'!$E45:$H45)","v":{"v":111,"d":"111.0"}},{"v":0,"d":"0.0"},{"v":18,"d":"18.0"},{"v":20,"d":"20.0"},{"v":30,"d":"30.0"},{"$f":"SUM('Project Cost Tracker'!$J45:$M45)","v":{"v":68,"d":"68.0"}},{"$f":"SUM('Project Cost Tracker'!$I45,'Project Cost Tracker'!$N45)","v":{"v":179,"d":"179.0"}}]
[null,null,"Operational / Maintenance",{"v":50,"d":"$50.00"},{"v":18,"d":"18.0"},{"v":50,"d":"50.0"},{"v":30,"d":"30.0"},{"v":25,"d":"25.0"},{"$f":"SUM('Project Cost Tracker'!$E46:$H46)","v":{"v":123,"d":"123.0"}},{"v":30,"d":"30.0"},{"v":25,"d":"25.0"},{"v":18,"d":"18.0"},{"v":15,"d":"15.0"},{"$f":"SUM('Project Cost Tracker'!$J46:$M46)","v":{"v":88,"d":"88.0"}},{"$f":"SUM('Project Cost Tracker'!$I46,'Project Cost Tracker'!$N46)","v":{"v":211,"d":"211.0"}}]
[null,null,"Total Hours",null,{"$f":"SUM(E43:E46)","v":{"v":93,"d":"93.0"}},{"$f":"SUM(F43:F46)","v":{"v":153,"d":"153.0"}},{"$f":"SUM(G43:G46)","v":{"v":127,"d":"127.0"}},{"$f":"SUM(H43:H46)","v":{"v":151,"d":"151.0"}},{"$f":"SUM('Project Cost Tracker'!$E47:$H47)","v":{"v":524,"d":"524.0"}},{"$f":"SUM(J43:J46)","v":{"v":75,"d":"75.0"}},{"$f":"SUM(K43:K46)","v":{"v":123,"d":"123.0"}},{"$f":"SUM(L43:L46)","v":{"v":128,"d":"128.0"}},{"$f":"SUM(M43:M46)","v":{"v":180,"d":"180.0"}},{"$f":"SUM(N43:N46)","v":{"v":506,"d":"506.0"}},{"$f":"SUM('Project Cost Tracker'!$I47,'Project Cost Tracker'!$N47)","v":{"v":1030,"d":"1,030.0"}}]
[null,null,"T & L Expenses ",{"$nulls":5},{"$f":"SUM('Project Cost Tracker'!$E48:$H48)","v":{"v":0,"d":"$0.00"}},{"$nulls":4},{"$f":"SUM('Project Cost Tracker'!$J48:$M48)","v":{"v":0,"d":"$0.00"}},{"$f":"SUM('Project Cost Tracker'!$I48,'Project Cost Tracker'!$N48)","v":{"v":0,"d":"$0.00"}}]
[null,null,"T & L Expenses - Capitalized",{"$nulls":5},{"$f":"SUM('Project Cost Tracker'!$E49:$H49)","v":{"v":0,"d":"$0.00"}},{"$nulls":4},{"$f":"SUM('Project Cost Tracker'!$J49:$M49)","v":{"v":0,"d":"$0.00"}},{"$f":"SUM('Project Cost Tracker'!$I49,'Project Cost Tracker'!$N49)","v":{"v":0,"d":"$0.00"}}]
[null,null,"VENDOR 2"]
[null,null,"Initiation / Planning",{"v":50,"d":"$50.00"},{"v":45,"d":"45.0"},{"v":32,"d":"32.0"},{"v":20,"d":"20.0"},{"v":45,"d":"45.0"},{"$f":"SUM('Project Cost Tracker'!$E51:$H51)","v":{"v":142,"d":"142.0"}},{"v":25,"d":"25.0"},{"v":35,"d":"35.0"},{"v":40,"d":"40.0"},{"v":70,"d":"70.0"},{"$f":"SUM('Project Cost Tracker'!$J51:$M51)","v":{"v":170,"d":"170.0"}},{"$f":"SUM('Project Cost Tracker'!$I51,'Project Cost Tracker'!$N51)","v":{"v":312,"d":"312.0"}}]
[null,null,"Install / Development / Testing",{"v":45,"d":"$45.00"},{"v":20,"d":"20.0"},{"v":35,"d":"35.0"},{"v":50,"d":"50.0"},{"v":43,"d":"43.0"},{"$f":"SUM('Project Cost Tracker'!$E52:$H52)","v":{"v":148,"d":"148.0"}},{"v":20,"d":"20.0"},{"v":45,"d":"45.0"},{"v":50,"d":"50.0"},{"v":65,"d":"65.0"},{"$f":"SUM('Project Cost Tracker'!$J52:$M52)","v":{"v":180,"d":"180.0"}},{"$f":"SUM('Project Cost Tracker'!$I52,'Project Cost Tracker'!$N52)","v":{"v":328,"d":"328.0"}}]
[null,null,"Deployment",{"v":50,"d":"$50.00"},{"v":10,"d":"10.0"},{"v":36,"d":"36.0"},{"v":27,"d":"27.0"},{"v":38,"d":"38.0"},{"$f":"SUM('Project Cost Tracker'!$E53:$H53)","v":{"v":111,"d":"111.0"}},{"v":0,"d":"0.0"},{"v":18,"d":"18.0"},{"v":20,"d":"20.0"},{"v":30,"d":"30.0"},{"$f":"SUM('Project Cost Tracker'!$J53:$M53)","v":{"v":68,"d":"68.0"}},{"$f":"SUM('Project Cost Tracker'!$I53,'Project Cost Tracker'!$N53)","v":{"v":179,"d":"179.0"}}]
[null,null,"Operational / Maintenance",{"v":50,"d":"$50.00"},{"v":18,"d":"18.0"},{"v":50,"d":"50.0"},{"v":30,"d":"30.0"},{"v":25,"d":"25.0"},{"$f":"SUM('Project Cost Tracker'!$E54:$H54)","v":{"v":123,"d":"123.0"}},{"v":30,"d":"30.0"},{"v":25,"d":"25.0"},{"v":18,"d":"18.0"},{"v":15,"d":"15.0"},{"$f":"SUM('Project Cost Tracker'!$J54:$M54)","v":{"v":88,"d":"88.0"}},{"$f":"SUM('Project Cost Tracker'!$I54,'Project Cost Tracker'!$N54)","v":{"v":211,"d":"211.0"}}]
[null,null,"Total Hours",null,{"$f":"SUM(E51:E54)","v":{"v":93,"d":"93.0"}},{"$f":"SUM(F51:F54)","v":{"v":153,"d":"153.0"}},{"$f":"SUM(G51:G54)","v":{"v":127,"d":"127.0"}},{"$f":"SUM(H51:H54)","v":{"v":151,"d":"151.0"}},{"$f":"SUM('Project Cost Tracker'!$E55:$H55)","v":{"v":524,"d":"524.0"}},{"$f":"SUM(J51:J54)","v":{"v":75,"d":"75.0"}},{"$f":"SUM(K51:K54)","v":{"v":123,"d":"123.0"}},{"$f":"SUM(L51:L54)","v":{"v":128,"d":"128.0"}},{"$f":"SUM(M51:M54)","v":{"v":180,"d":"180.0"}},{"$f":"SUM(N51:N54)","v":{"v":506,"d":"506.0"}},{"$f":"SUM('Project Cost Tracker'!$I55,'Project Cost Tracker'!$N55)","v":{"v":1030,"d":"1,030.0"}}]
[null,null,"T & L Expenses ",{"$nulls":5},{"$f":"SUM('Project Cost Tracker'!$E56:$H56)","v":{"v":0,"d":"$0.00"}},{"$nulls":4},{"$f":"SUM('Project Cost Tracker'!$J56:$M56)","v":{"v":0,"d":"$0.00"}},{"$f":"SUM('Project Cost Tracker'!$I56,'Project Cost Tracker'!$N56)","v":{"v":0,"d":"$0.00"}}]
[null,null,"T & L Expenses - Capitalized",{"$nulls":5},{"$f":"SUM('Project Cost Tracker'!$E57:$H57)","v":{"v":0,"d":"$0.00"}},{"$nulls":4},{"$f":"SUM('Project Cost Tracker'!$J57:$M57)","v":{"v":0,"d":"$0.00"}},{"$f":"SUM('Project Cost Tracker'!$I57,'Project Cost Tracker'!$N57)","v":{"v":0,"d":"$0.00"}}]
[null,null,"VENDOR 3"]
[null,null,"Initiation / Planning",{"v":50,"d":"$50.00"},{"v":45,"d":"45.0"},{"v":32,"d":"32.0"},{"v":20,"d":"20.0"},{"v":45,"d":"45.0"},{"$f":"SUM('Project Cost Tracker'!$E59:$H59)","v":{"v":142,"d":"142.0"}},{"v":25,"d":"25.0"},{"v":35,"d":"35.0"},{"v":40,"d":"40.0"},{"v":70,"d":"70.0"},{"$f":"SUM('Project Cost Tracker'!$J59:$M59)","v":{"v":170,"d":"170.0"}},{"$f":"SUM('Project Cost Tracker'!$I59,'Project Cost Tracker'!$N59)","v":{"v":312,"d":"312.0"}}]
[null,null,"Install / Development / Testing",{"v":45,"d":"$45.00"},{"v":20,"d":"20.0"},{"v":35,"d":"35.0"},{"v":50,"d":"50.0"},{"v":43,"d":"43.0"},{"$f":"SUM('Project Cost Tracker'!$E60:$H60)","v":{"v":148,"d":"148.0"}},{"v":20,"d":"20.0"},{"v":45,"d":"45.0"},{"v":50,"d":"50.0"},{"v":65,"d":"65.0"},{"$f":"SUM('Project Cost Tracker'!$J60:$M60)","v":{"v":180,"d":"180.0"}},{"$f":"SUM('Project Cost Tracker'!$I60,'Project Cost Tracker'!$N60)","v":{"v":328,"d":"328.0"}}]
[null,null,"Deployment",{"v":50,"d":"$50.00"},{"v":10,"d":"10.0"},{"v":36,"d":"36.0"},{"v":27,"d":"27.0"},{"v":38,"d":"38.0"},{"$f":"SUM('Project Cost Tracker'!$E61:$H61)","v":{"v":111,"d":"111.0"}},{"v":0,"d":"0.0"},{"v":18,"d":"18.0"},{"v":20,"d":"20.0"},{"v":30,"d":"30.0"},{"$f":"SUM('Project Cost Tracker'!$J61:$M61)","v":{"v":68,"d":"68.0"}},{"$f":"SUM('Project Cost Tracker'!$I61,'Project Cost Tracker'!$N61)","v":{"v":179,"d":"179.0"}}]
[null,null,"Operational / Maintenance",{"v":50,"d":"$50.00"},{"v":18,"d":"18.0"},{"v":50,"d":"50.0"},{"v":30,"d":"30.0"},{"v":25,"d":"25.0"},{"$f":"SUM('Project Cost Tracker'!$E62:$H62)","v":{"v":123,"d":"123.0"}},{"v":30,"d":"30.0"},{"v":25,"d":"25.0"},{"v":18,"d":"18.0"},{"v":15,"d":"15.0"},{"$f":"SUM('Project Cost Tracker'!$J62:$M62)","v":{"v":88,"d":"88.0"}},{"$f":"SUM('Project Cost Tracker'!$I62,'Project Cost Tracker'!$N62)","v":{"v":211,"d":"211.0"}}]
[null,null,"Total Hours",null,{"$f":"SUM(E59:E62)","v":{"v":93,"d":"93.0"}},{"$f":"SUM(F59:F62)","v":{"v":153,"d":"153.0"}},{"$f":"SUM(G59:G62)","v":{"v":127,"d":"127.0"}},{"$f":"SUM(H59:H62)","v":{"v":151,"d":"151.0"}},{"$f":"SUM('Project Cost Tracker'!$E63:$H63)","v":{"v":524,"d":"524.0"}},{"$f":"SUM(J59:J62)","v":{"v":75,"d":"75.0"}},{"$f":"SUM(K59:K62)","v":{"v":123,"d":"123.0"}},{"$f":"SUM(L59:L62)","v":{"v":128,"d":"128.0"}},{"$f":"SUM(M59:M62)","v":{"v":180,"d":"180.0"}},{"$f":"SUM(N59:N62)","v":{"v":506,"d":"506.0"}},{"$f":"SUM('Project Cost Tracker'!$I63,'Project Cost Tracker'!$N63)","v":{"v":1030,"d":"1,030.0"}}]
[null,null,"T & L Expenses ",{"$nulls":5},{"$f":"SUM('Project Cost Tracker'!$E64:$H64)","v":{"v":0,"d":"$0.00"}},{"$nulls":4},{"$f":"SUM('Project Cost Tracker'!$J64:$M64)","v":{"v":0,"d":"$0.00"}},{"$f":"SUM('Project Cost Tracker'!$I64,'Project Cost Tracker'!$N64)","v":{"v":0,"d":"$0.00"}}]
[null,null,"T & L Expenses - Capitalized",{"$nulls":5},{"$f":"SUM('Project Cost Tracker'!$E65:$H65)","v":{"v":0,"d":"$0.00"}},{"$nulls":4},{"$f":"SUM('Project Cost Tracker'!$J65:$M65)","v":{"v":0,"d":"$0.00"}},{"$f":"SUM('Project Cost Tracker'!$I65,'Project Cost Tracker'!$N65)","v":{"v":0,"d":"$0.00"}}]
[null,null,"VENDOR 4"]
[null,null,"Initiation / Planning",{"v":50,"d":"$50.00"},{"v":45,"d":"45.0"},{"v":32,"d":"32.0"},{"v":20,"d":"20.0"},{"v":45,"d":"45.0"},{"$f":"SUM('Project Cost Tracker'!$E67:$H67)","v":{"v":142,"d":"142.0"}},{"v":25,"d":"25.0"},{"v":35,"d":"35.0"},{"v":40,"d":"40.0"},{"v":70,"d":"70.0"},{"$f":"SUM('Project Cost Tracker'!$J67:$M67)","v":{"v":170,"d":"170.0"}},{"$f":"SUM('Project Cost Tracker'!$I67,'Project Cost Tracker'!$N67)","v":{"v":312,"d":"312.0"}}]
[null,null,"Install / Development / Testing",{"v":45,"d":"$45.00"},{"v":20,"d":"20.0"},{"v":35,"d":"35.0"},{"v":50,"d":"50.0"},{"v":43,"d":"43.0"},{"$f":"SUM('Project Cost Tracker'!$E68:$H68)","v":{"v":148,"d":"148.0"}},{"v":20,"d":"20.0"},{"v":45,"d":"45.0"},{"v":50,"d":"50.0"},{"v":65,"d":"65.0"},{"$f":"SUM('Project Cost Tracker'!$J68:$M68)","v":{"v":180,"d":"180.0"}},{"$f":"SUM('Project Cost Tracker'!$I68,'Project Cost Tracker'!$N68)","v":{"v":328,"d":"328.0"}}]
[null,null,"Deployment",{"v":50,"d":"$50.00"},{"v":10,"d":"10.0"},{"v":36,"d":"36.0"},{"v":27,"d":"27.0"},{"v":38,"d":"38.0"},{"$f":"SUM('Project Cost Tracker'!$E69:$H69)","v":{"v":111,"d":"111.0"}},{"v":0,"d":"0.0"},{"v":18,"d":"18.0"},{"v":20,"d":"20.0"},{"v":30,"d":"30.0"},{"$f":"SUM('Project Cost Tracker'!$J69:$M69)","v":{"v":68,"d":"68.0"}},{"$f":"SUM('Project Cost Tracker'!$I69,'Project Cost Tracker'!$N69)","v":{"v":179,"d":"179.0"}}]
[null,null,"Operational / Maintenance",{"v":50,"d":"$50.00"},{"v":18,"d":"18.0"},{"v":50,"d":"50.0"},{"v":30,"d":"30.0"},{"v":25,"d":"25.0"},{"$f":"SUM('Project Cost Tracker'!$E70:$H70)","v":{"v":123,"d":"123.0"}},{"v":30,"d":"30.0"},{"v":25,"d":"25.0"},{"v":18,"d":"18.0"},{"v":15,"d":"15.0"},{"$f":"SUM('Project Cost Tracker'!$J70:$M70)","v":{"v":88,"d":"88.0"}},{"$f":"SUM('Project Cost Tracker'!$I70,'Project Cost Tracker'!$N70)","v":{"v":211,"d":"211.0"}}]
[null,null,"Total Hours",null,{"$f":"SUM(E67:E70)","v":{"v":93,"d":"93.0"}},{"$f":"SUM(F67:F70)","v":{"v":153,"d":"153.0"}},{"$f":"SUM(G67:G70)","v":{"v":127,"d":"127.0"}},{"$f":"SUM(H67:H70)","v":{"v":151,"d":"151.0"}},{"$f":"SUM('Project Cost Tracker'!$E71:$H71)","v":{"v":524,"d":"524.0"}},{"$f":"SUM(J67:J70)","v":{"v":75,"d":"75.0"}},{"$f":"SUM(K67:K70)","v":{"v":123,"d":"123.0"}},{"$f":"SUM(L67:L70)","v":{"v":128,"d":"128.0"}},{"$f":"SUM(M67:M70)","v":{"v":180,"d":"180.0"}},{"$f":"SUM(N67:N70)","v":{"v":506,"d":"506.0"}},{"$f":"SUM('Project Cost Tracker'!$I71,'Project Cost Tracker'!$N71)","v":{"v":1030,"d":"1,030.0"}}]
[null,null,"T & L Expenses ",{"$nulls":5},{"$f":"SUM('Project Cost Tracker'!$E72:$H72)","v":{"v":0,"d":"$0.00"}},{"$nulls":4},{"$f":"SUM('Project Cost Tracker'!$J72:$M72)","v":{"v":0,"d":"$0.00"}},{"$f":"SUM('Project Cost Tracker'!$I72,'Project Cost Tracker'!$N72)","v":{"v":0,"d":"$0.00"}}]
[null,null,"T & L Expenses - Capitalized",{"$nulls":5},{"$f":"SUM('Project Cost Tracker'!$E73:$H73)","v":{"v":0,"d":"$0.00"}},{"$nulls":4},{"$f":"SUM('Project Cost Tracker'!$J73:$M73)","v":{"v":0,"d":"$0.00"}},{"$f":"SUM('Project Cost Tracker'!$I73,'Project Cost Tracker'!$N73)","v":{"v":0,"d":"$0.00"}}]
[null,null,"RESOURCE SUMMARY"]
[null,null,"Initiation / Planning",null,{"$f":"SUM(E11,E19,E27,E35)","v":{"v":180,"d":"180.0"}},{"v":128,"d":"128.0"},{"v":80,"d":"80.0"},{"v":180,"d":"180.0"},{"$f":"SUM(E75:H75)","v":{"v":568,"d":"568.0"}},{"$f":"SUM(J11,J19,J27,J35)","v":{"v":100,"d":"100.0"}},{"v":140,"d":"140.0"},{"v":160,"d":"160.0"},{"v":280,"d":"280.0"},{"v":680,"d":"680.0"},{"v":1248,"d":"1,248.0"}]
[null,null,"Install / Development / Testing",null,{"v":80,"d":"80.0"},{"v":140,"d":"140.0"},{"v":200,"d":"200.0"},{"v":172,"d":"172.0"},{"$f":"SUM(I12,I20,I28,I36)","v":{"v":592,"d":"592.0"}},{"v":80,"d":"80.0"},{"v":180,"d":"180.0"},{"v":200,"d":"200.0"},{"v":260,"d":"260.0"},{"v":720,"d":"720.0"},{"v":1312,"d":"1,312.0"}]
[null,null,"Deployment",null,{"v":40,"d":"40.0"},{"v":144,"d":"144.0"},{"v":108,"d":"108.0"},{"v":152,"d":"152.0"},{"$f":"SUM(I13,I21,I29,I37)","v":{"v":444,"d":"444.0"}},{"v":0,"d":"0.0"},{"v":72,"d":"72.0"},{"v":80,"d":"80.0"},{"v":120,"d":"120.0"},{"v":272,"d":"272.0"},{"v":716,"d":"716.0"}]
[null,null,"Operational / Maintenance",null,{"v":72,"d":"72.0"},{"v":200,"d":"200.0"},{"v":120,"d":"120.0"},{"v":100,"d":"100.0"},{"$f":"SUM(I14,I22,I30,I38)","v":{"v":492,"d":"492.0"}},{"$f":"SUM(J14,J22,J30,J38)","v":{"v":120,"d":"120.0"}},{"$f":"SUM(K14,K22,K30,K38)","v":{"v":100,"d":"100.0"}},{"$f":"SUM(L14,L22,L30,L38)","v":{"v":72,"d":"72.0"}},{"$f":"SUM(M14,M22,M30,M38)","v":{"v":60,"d":"60.0"}},{"$f":"SUM(N14,N22,N30,N38)","v":{"v":352,"d":"352.0"}},{"$f":"SUM(I78,N78)","v":{"v":844,"d":"844.0"}}]
[null,null,"Resource Grand Total Hours",null,{"$f":"SUM(E75:E78)","v":{"v":372,"d":"372.0"}},{"$f":"SUM(F75:F78)","v":{"v":612,"d":"612.0"}},{"v":508,"d":"508.0"},{"$f":"SUM(H75:H78)","v":{"v":604,"d":"604.0"}},{"v":2096,"d":"2,096.0"},{"v":300,"d":"300.0"},{"v":492,"d":"492.0"},{"v":512,"d":"512.0"},{"$f":"SUM(M75:M78)","v":{"v":720,"d":"720.0"}},{"v":2024,"d":"2,024.0"},{"$f":"SUM(I79,N79)","v":{"v":4120,"d":"4,120.0"}}]
[null,null,"T & L Expenses ",null,{"$f":"SUM(E16,E24,E32,E40)","v":{"v":0,"d":"$0.00"}},{"v":0,"d":"$0.00"},{"v":0,"d":"$0.00"},{"v":0,"d":"$0.00"},{"v":0,"d":"$0.00"},{"v":0,"d":"$0.00"},{"v":0,"d":"$0.00"},{"v":0,"d":"$0.00"},{"v":0,"d":"$0.00"},{"v":0,"d":"$0.00"},{"v":0,"d":"$0.00"}]
[null,null,"T & L Expenses - Capitalized",null,{"$f":"SUM(E17,E25,E33,E41)","v":{"v":0,"d":"$0.00"}},{"v":0,"d":"$0.00"},{"v":0,"d":"$0.00"},{"v":0,"d":"$0.00"},{"v":0,"d":"$0.00"},{"v":0,"d":"$0.00"},{"v":0,"d":"$0.00"},{"v":0,"d":"$0.00"},{"v":0,"d":"$0.00"},{"v":0,"d":"$0.00"},{"v":0,"d":"$0.00"}]
[null,null,"VENDOR SUMMARY"]
[null,null,"Initiation / Planning",null,{"$f":"SUM(E43,E51,E59,E67)","v":{"v":180,"d":"180.0"}},{"v":128,"d":"128.0"},{"v":80,"d":"80.0"},{"v":180,"d":"180.0"},{"v":568,"d":"568.0"},{"v":100,"d":"100.0"},{"v":140,"d":"140.0"},{"v":160,"d":"160.0"},{"v":280,"d":"280.0"},{"v":680,"d":"680.0"},{"$f":"SUM(I83,N83)","v":{"v":1248,"d":"1,248.0"}}]
[null,null,"Install / Development / Testing",null,{"$f":"SUM(E44,E52,E60,E68)","v":{"v":80,"d":"80.0"}},{"v":140,"d":"140.0"},{"v":200,"d":"200.0"},{"v":172,"d":"172.0"},{"v":592,"d":"592.0"},{"v":80,"d":"80.0"},{"v":180,"d":"180.0"},{"v":200,"d":"200.0"},{"v":260,"d":"260.0"},{"v":720,"d":"720.0"},{"$f":"SUM(I84,N84)","v":{"v":1312,"d":"1,312.0"}}]
[null,null,"Deployment",null,{"$f":"SUM(E45,E53,E61,E69)","v":{"v":40,"d":"40.0"}},{"v":144,"d":"144.0"},{"v":108,"d":"108.0"},{"v":152,"d":"152.0"},{"v":444,"d":"444.0"},{"v":0,"d":"0.0"},{"v":72,"d":"72.0"},{"v":80,"d":"80.0"},{"v":120,"d":"120.0"},{"v":272,"d":"272.0"},{"v":716,"d":"716.0"}]
[null,null,"Operational / Maintenance",null,{"$f":"SUM(E46,E54,E62,E70)","v":{"v":72,"d":"72.0"}},{"v":200,"d":"200.0"},{"v":120,"d":"120.0"},{"v":100,"d":"100.0"},{"v":492,"d":"492.0"},{"v":120,"d":"120.0"},{"v":100,"d":"100.0"},{"v":72,"d":"72.0"},{"v":60,"d":"60.0"},{"v":352,"d":"352.0"},{"v":844,"d":"844.0"}]
[null,null,"Vendor Grand Total Hours",null,{"$f":"SUM(E83:E86)","v":{"v":372,"d":"372.0"}},{"$f":"SUM(F83:F86)","v":{"v":612,"d":"612.0"}},{"v":508,"d":"508.0"},{"v":604,"d":"604.0"},{"v":2096,"d":"2,096.0"},{"v":300,"d":"300.0"},{"v":492,"d":"492.0"},{"v":512,"d":"512.0"},{"v":720,"d":"720.0"},{"v":2024,"d":"2,024.0"},{"v":4120,"d":"4,120.0"}]
[null,null,"T & L Expenses ",null,{"$f":"SUM(E48,E56,E64,E72)","v":{"v":0,"d":"$0.00"}},{"v":0,"d":"$0.00"},{"v":0,"d":"$0.00"},{"v":0,"d":"$0.00"},{"v":0,"d":"$0.00"},{"v":0,"d":"$0.00"},{"v":0,"d":"$0.00"},{"v":0,"d":"$0.00"},{"v":0,"d":"$0.00"},{"v":0,"d":"$0.00"},{"v":0,"d":"$0.00"}]
[null,null,"T & L Expenses - Capitalized",null,{"$f":"SUM(E49,E57,E65,E73)","v":{"v":0,"d":"$0.00"}},{"v":0,"d":"$0.00"},{"v":0,"d":"$0.00"},{"v":0,"d":"$0.00"},{"v":0,"d":"$0.00"},{"v":0,"d":"$0.00"},{"v":0,"d":"$0.00"},{"v":0,"d":"$0.00"},{"v":0,"d":"$0.00"},{"v":0,"d":"$0.00"},{"v":0,"d":"$0.00"}]